BEGIN:VCALENDAR
VERSION:2.0
PRODID:-//wp-events-plugin.com//7.2.3.1//EN
TZID:Europe/Berlin
X-WR-TIMEZONE:Europe/Berlin
BEGIN:VEVENT
UID:3@kapellenplatz-altenfurt.de
DTSTART;TZID=Europe/Berlin:20260328T130000
DTEND;TZID=Europe/Berlin:20260328T180000
DTSTAMP:20260326T172510Z
URL:https://kapellenplatz-altenfurt.de/events/ostermarkt-2026-an-der-rundk
 apelle/
SUMMARY:Ostermarkt 2026 an der Rundkapelle
DESCRIPTION:Beim Ostermarkt erwartet die Besucher Kunsthandwerk\, österlic
 he Dekorationen\, kulinarische Angebote\, sowie ein buntes Programm auf de
 m Kapellenplatz.
ATTACH;FMTTYPE=image/jpeg:https://kapellenplatz-altenfurt.de/wp-content/up
 loads/2026/01/2026_Ostermarkt_teaser_4x3_150dpi.jpg
CATEGORIES:Markt
LOCATION:Kapellenplatz Altenfurt\, Leonhard-Übler-Platz\, Nürnberg\, 9047
 5\, Deutschland
GEO:49.406473;11.164116
X-APPLE-STRUCTURED-LOCATION;VALUE=URI;X-ADDRESS=Leonhard-Übler-Platz\, Nü
 rnberg\, 90475\, Deutschland;X-APPLE-RADIUS=100;X-TITLE=Kapellenplatz Alte
 nfurt:geo:49.406473,11.164116
END:VEVENT
BEGIN:VTIMEZONE
TZID:Europe/Berlin
X-LIC-LOCATION:Europe/Berlin
BEGIN:STANDARD
DTSTART:20251026T020000
TZOFFSETFROM:+0200
TZOFFSETTO:+0100
TZNAME:CET
END:STANDARD
END:VTIMEZONE
END:VCALENDAR