BEGIN:VCALENDAR
VERSION:2.0
PRODID:-//wp-events-plugin.com//7.2.3.1//EN
TZID:Europe/Berlin
X-WR-TIMEZONE:Europe/Berlin
BEGIN:VEVENT
UID:10@kapellenplatz-altenfurt.de
DTSTART;TZID=Europe/Berlin:20260717T170000
DTEND;TZID=Europe/Berlin:20260717T230000
DTSTAMP:20260118T192851Z
URL:https://kapellenplatz-altenfurt.de/events/open-air-an-der-rundkapelle-
 2026/
SUMMARY:Open-Air an der Rundkapelle 2026
DESCRIPTION:weitere Infos folgen
CATEGORIES:Konzert
LOCATION:Kapellenplatz Altenfurt\, Leonhard-Übler-Platz\, Nürnberg\, 9047
 5\, Deutschland
GEO:49.406473;11.164116
X-APPLE-STRUCTURED-LOCATION;VALUE=URI;X-ADDRESS=Leonhard-Übler-Platz\, Nü
 rnberg\, 90475\, Deutschland;X-APPLE-RADIUS=100;X-TITLE=Kapellenplatz Alte
 nfurt:geo:49.406473,11.164116
END:VEVENT
BEGIN:VTIMEZONE
TZID:Europe/Berlin
X-LIC-LOCATION:Europe/Berlin
BEGIN:DAYLIGHT
DTSTART:20260329T030000
TZOFFSETFROM:+0100
TZOFFSETTO:+0200
TZNAME:CEST
END:DAYLIGHT
END:VTIMEZONE
END:VCALENDAR