BEGIN:VCALENDAR
VERSION:2.0
PRODID:-//wp-events-plugin.com//7.2.3.1//EN
TZID:Europe/Berlin
X-WR-TIMEZONE:Europe/Berlin
BEGIN:VEVENT
UID:37@kapellenplatz-altenfurt.de
DTSTART;TZID=Europe/Berlin:20260517T110000
DTEND;TZID=Europe/Berlin:20260517T170000
DTSTAMP:20260411T070416Z
URL:https://kapellenplatz-altenfurt.de/events/moorenbrunnlife-2026/
SUMMARY:MoorenbrunnLIFE 2026
DESCRIPTION:Stadtteilfest in Nürnberg-Moorenbrunn.\nWir sind dabei.\nKommt
  und feiert mit uns!\n\nEin Fest von privaten und öffentlichen Organisati
 onen\, Vereinen und Gewerbetreibenden.\nBühnenprogramm mit Musik und Tomb
 ola\, Speisen und Getränke\n\nhttps://buergervereinsuedost.de/veranstaltu
 ngen/moorenbrunn-life/\n\n
ATTACH;FMTTYPE=image/jpeg:https://kapellenplatz-altenfurt.de/wp-content/up
 loads/2026/04/Moorenbrunn-Life-2026_Logo.png
LOCATION:Rewe-Parkplatz Moorenbrunn\, Bregenzer Straße 15\, Nürnberg\, 90
 475\, Deutschland
GEO:49.397661;11.17535
X-APPLE-STRUCTURED-LOCATION;VALUE=URI;X-ADDRESS=Bregenzer Straße 15\, Nür
 nberg\, 90475\, Deutschland;X-APPLE-RADIUS=100;X-TITLE=Rewe-Parkplatz Moor
 enbrunn:geo:49.397661,11.17535
END:VEVENT
BEGIN:VTIMEZONE
TZID:Europe/Berlin
X-LIC-LOCATION:Europe/Berlin
BEGIN:DAYLIGHT
DTSTART:20260329T030000
TZOFFSETFROM:+0100
TZOFFSETTO:+0200
TZNAME:CEST
END:DAYLIGHT
END:VTIMEZONE
END:VCALENDAR