BEGIN:VCALENDAR
VERSION:2.0
PRODID:-//wp-events-plugin.com//7.2.3.1//EN
TZID:Europe/Berlin
X-WR-TIMEZONE:Europe/Berlin
BEGIN:VEVENT
UID:15@kapellenplatz-altenfurt.de
DTSTART;TZID=Europe/Berlin:20261107T130000
DTEND;TZID=Europe/Berlin:20261107T170000
DTSTAMP:20260118T192927Z
URL:https://kapellenplatz-altenfurt.de/events/martinimarkt-2026/
SUMMARY:Martinimarkt 2026
DESCRIPTION:
CATEGORIES:Markt
LOCATION:Kapellenplatz Altenfurt\, Leonhard-Übler-Platz\, Nürnberg\, 9047
 5\, Deutschland
GEO:49.406473;11.164116
X-APPLE-STRUCTURED-LOCATION;VALUE=URI;X-ADDRESS=Leonhard-Übler-Platz\, Nü
 rnberg\, 90475\, Deutschland;X-APPLE-RADIUS=100;X-TITLE=Kapellenplatz Alte
 nfurt:geo:49.406473,11.164116
END:VEVENT
BEGIN:VTIMEZONE
TZID:Europe/Berlin
X-LIC-LOCATION:Europe/Berlin
BEGIN:STANDARD
DTSTART:20261025T020000
TZOFFSETFROM:+0200
TZOFFSETTO:+0100
TZNAME:CET
END:STANDARD
END:VTIMEZONE
END:VCALENDAR