BEGIN:VCALENDAR
VERSION:2.0
PRODID:-//wp-events-plugin.com//7.2.3.1//EN
TZID:Europe/Berlin
X-WR-TIMEZONE:Europe/Berlin
BEGIN:VEVENT
UID:24@kapellenplatz-altenfurt.de
DTSTART;TZID=Europe/Berlin:20261126T190000
DTEND;TZID=Europe/Berlin:20261126T210000
DTSTAMP:20260303T111024Z
URL:https://kapellenplatz-altenfurt.de/events/kultur-im-schloesschen-buchv
 orstellung-november/
SUMMARY:Kultur im Schlösschen - Buchvorstellung November
DESCRIPTION:Buchvorstellung durch Buchhändler Benedikt Rüssel.\n\nEs werd
 en aktuelle Neuerscheinung aus dem vielseitigen Programm der Verlage vorge
 stellt und besprochen.
ATTACH;FMTTYPE=image/jpeg:https://kapellenplatz-altenfurt.de/wp-content/up
 loads/2024/03/kultur-im-schloesschen_header.jpg
CATEGORIES:Buchvorstellung,Kultur
LOCATION:Rokoko-Saal im Schlösschen\, Leonhard-Übler-Platz 1\, Nürnberg\
 , 90475\, Deutschland
GEO:49.406616;11.16418
X-APPLE-STRUCTURED-LOCATION;VALUE=URI;X-ADDRESS=Leonhard-Übler-Platz 1\, N
 ürnberg\, 90475\, Deutschland;X-APPLE-RADIUS=100;X-TITLE=Rokoko-Saal im S
 chlösschen:geo:49.406616,11.16418
END:VEVENT
BEGIN:VTIMEZONE
TZID:Europe/Berlin
X-LIC-LOCATION:Europe/Berlin
BEGIN:STANDARD
DTSTART:20261025T020000
TZOFFSETFROM:+0200
TZOFFSETTO:+0100
TZNAME:CET
END:STANDARD
END:VTIMEZONE
END:VCALENDAR