BEGIN:VCALENDAR
VERSION:2.0
PRODID:-//wp-events-plugin.com//7.2.3.1//EN
TZID:Europe/Berlin
X-WR-TIMEZONE:Europe/Berlin
BEGIN:VEVENT
UID:9@kapellenplatz-altenfurt.de
DTSTART;TZID=Europe/Berlin:20260510T170000
DTEND;TZID=Europe/Berlin:20260510T200000
DTSTAMP:20260305T075119Z
URL:https://kapellenplatz-altenfurt.de/events/kreativkurs-yoga-art-retreat
 -auszeit-fuer-entspannung-und-kreativitaet/
SUMMARY:Kreativkurs: Yoga & Art Retreat - Auszeit für Entspannung und Krea
 tivität
DESCRIPTION:Diesmal führen wir euch mit achtsamen Yogasequenzen und versch
 iedenen Techniken der kreativen Gestaltung durch den Abend. Mit Farbe und 
 Collageelementen werden wir einzigartige Bilder entstehen lassen.\n\nGetr
 änke und kleine Köstlichkeiten sind wieder inklusive.\n\nMax. 10 Teilneh
 mer*innen\n\nPreis: 45\,- € + Materialkosten (5 bis 10€ - nach Verbrau
 ch)\n\n \n\nDie Kurse werden durchgeführt von:\n\nChristina Schweiger (K
 reativpädagogin D.A.S.\, systemische Beratung i.A.)\nwww.kreativ-im-tinyh
 ouse.de\n\nKaren Jurasin (Flamenco\, Tanztherapie und Yoga)\n\nAnmeldung u
 nter: mail@kreativ-im-tinyhouse.de oder 0157 53538522\n\n
CATEGORIES:Kreativkurs
LOCATION:Rokoko-Saal im Schlösschen\, Leonhard-Übler-Platz 1\, Nürnberg\
 , 90475\, Deutschland
GEO:49.406616;11.16418
X-APPLE-STRUCTURED-LOCATION;VALUE=URI;X-ADDRESS=Leonhard-Übler-Platz 1\, N
 ürnberg\, 90475\, Deutschland;X-APPLE-RADIUS=100;X-TITLE=Rokoko-Saal im S
 chlösschen:geo:49.406616,11.16418
END:VEVENT
BEGIN:VTIMEZONE
TZID:Europe/Berlin
X-LIC-LOCATION:Europe/Berlin
BEGIN:DAYLIGHT
DTSTART:20260329T030000
TZOFFSETFROM:+0100
TZOFFSETTO:+0200
TZNAME:CEST
END:DAYLIGHT
END:VTIMEZONE
END:VCALENDAR