BEGIN:VCALENDAR
VERSION:2.0
PRODID:-//wp-events-plugin.com//7.2.3.1//EN
TZID:Europe/Berlin
X-WR-TIMEZONE:Europe/Berlin
BEGIN:VEVENT
UID:46@kapellenplatz-altenfurt.de
DTSTART;TZID=Europe/Berlin:20260719T170000
DTEND;TZID=Europe/Berlin:20260719T200000
DTSTAMP:20260415T141309Z
URL:https://kapellenplatz-altenfurt.de/events/kreativkurs-art-night-frida-
 kahlo/
SUMMARY:Kreativkurs: Art Night: Frida Kahlo
DESCRIPTION:Max. 10 Teilnehmer*innen\n\nPreis: 45\,- € + Materialkosten\n
 \n\n\nDie Kurse werden durchgeführt von:\n\nChristina Schweiger (Kreativp
 ädagogin D.A.S.\, systemische Beratung i.A.)\nwww.kreativ-im-tinyhouse.de
 \n\nAnmeldung unter: mail@kreativ-im-tinyhouse.de oder 0157 53538522
CATEGORIES:Kreativkurs
LOCATION:Rokoko-Saal im Schlösschen\, Leonhard-Übler-Platz 1\, Nürnberg\
 , 90475\, Deutschland
GEO:49.406616;11.16418
X-APPLE-STRUCTURED-LOCATION;VALUE=URI;X-ADDRESS=Leonhard-Übler-Platz 1\, N
 ürnberg\, 90475\, Deutschland;X-APPLE-RADIUS=100;X-TITLE=Rokoko-Saal im S
 chlösschen:geo:49.406616,11.16418
END:VEVENT
BEGIN:VTIMEZONE
TZID:Europe/Berlin
X-LIC-LOCATION:Europe/Berlin
BEGIN:DAYLIGHT
DTSTART:20260329T030000
TZOFFSETFROM:+0100
TZOFFSETTO:+0200
TZNAME:CEST
END:DAYLIGHT
END:VTIMEZONE
END:VCALENDAR