BEGIN:VCALENDAR
VERSION:2.0
PRODID:-//wp-events-plugin.com//7.2.3.1//EN
TZID:Europe/Berlin
X-WR-TIMEZONE:Europe/Berlin
BEGIN:VEVENT
UID:19@kapellenplatz-altenfurt.de
DTSTART;TZID=Europe/Berlin:20260419T170000
DTEND;TZID=Europe/Berlin:20260419T183000
DTSTAMP:20260409T053720Z
URL:https://kapellenplatz-altenfurt.de/events/konzert-aura-dulcis/
SUMMARY:Konzert Aura Dulcis
DESCRIPTION:Das Ensemble Aura Dulcis spielt heitere Tänze\, vielschichtige
  Instrumentalstücke\, festliche und geistliche Musik aus Renaissance und 
 (Früh-)Barock. Gesungen wird natürlich auch.  Die sieben Musiker/innen s
 pielen mit Nachbauten historischer Instrumente: Gemshörnern\, Blockflöte
 n\, aber auch Cornamusen und Krummhörnern\, und Saiteninstrumenten wie Ga
 mben\, verschiedenen Gitarren und Cembalo bzw. Spinett und Schlagwerk.\nWa
 s könnte besser in den wunderbaren Rahmen unseres Schlösschens passen?\n
 \nDer Eintritt zum Konzert ist frei\, Spenden sind sehr willkommen. \n\n
CATEGORIES:Konzert,Kultur
LOCATION:Rokoko-Saal im Schlösschen\, Leonhard-Übler-Platz 1\, Nürnberg\
 , 90475\, Deutschland
GEO:49.406616;11.16418
X-APPLE-STRUCTURED-LOCATION;VALUE=URI;X-ADDRESS=Leonhard-Übler-Platz 1\, N
 ürnberg\, 90475\, Deutschland;X-APPLE-RADIUS=100;X-TITLE=Rokoko-Saal im S
 chlösschen:geo:49.406616,11.16418
END:VEVENT
BEGIN:VTIMEZONE
TZID:Europe/Berlin
X-LIC-LOCATION:Europe/Berlin
BEGIN:DAYLIGHT
DTSTART:20260329T030000
TZOFFSETFROM:+0100
TZOFFSETTO:+0200
TZNAME:CEST
END:DAYLIGHT
END:VTIMEZONE
END:VCALENDAR